BEGIN:VCALENDAR
VERSION:2.0
PRODID:-//Squarespace Inc/Squarespace 6//v6//EN
BEGIN:VEVENT
UID:557fc310e4b04473f1785de6@squarespace.com
DTSTAMP:20150707T045756Z
DTSTART:20150714T223000Z
DTEND:20150715T000000Z
SUMMARY:Breakfast: Women Nurturing & Inspiring One Another to Lead
GEO:-37.811462;145.052545
LOCATION:St Hilary's Church\, 12 John Street\, Kew\, Australia
END:VEVENT
END:VCALENDAR
