BEGIN:VCALENDAR
VERSION:2.0
PRODID:-//Squarespace Inc/Squarespace 6//v6//EN
BEGIN:VEVENT
UID:556d37f0e4b0a61cba4f5037@squarespace.com
DTSTAMP:20150810T072339Z
DTSTART:20150810T230000Z
DTEND:20150811T060000Z
SUMMARY:Just Leadership Seminar
END:VEVENT
END:VCALENDAR
