BEGIN:VCALENDAR
VERSION:2.0
PRODID:-//Squarespace Inc/Squarespace 6//v6//EN
BEGIN:VEVENT
UID:556cf0a4e4b0744f50e10e94@squarespace.com
DTSTAMP:20150602T000735Z
DTSTART:20150503T020000Z
DTEND:20150503T033000Z
SUMMARY:Course: Jesus 101
END:VEVENT
END:VCALENDAR
