BEGIN:VCALENDAR
VERSION:2.0
PRODID:-//Squarespace Inc/Squarespace 6//v6//EN
BEGIN:VEVENT
UID:556bf8ade4b0c3683a9efe91@squarespace.com
DTSTAMP:20150602T005306Z
DTSTART:20150520T090000Z
DTEND:20150520T110000Z
SUMMARY:Course: Knowing God (Ridley Certificate)
GEO:-37.811462;145.052545
LOCATION:St Hilary's Education Centre\, 12 John St\, Kew\, VIC\, 3101\, Aus
 tralia
END:VEVENT
END:VCALENDAR
