BEGIN:VCALENDAR
VERSION:2.0
PRODID:-//Squarespace Inc/Squarespace 6//v6//EN
BEGIN:VEVENT
UID:556cfa11e4b0da4430c20698@squarespace.com
DTSTAMP:20150602T004606Z
DTSTART:20150422T090000Z
DTEND:20150422T110000Z
SUMMARY:Course: Gospel & Life (Ridley Certificate)
GEO:-37.811462;145.052545
LOCATION:St Hilary's\, 12 John St\, Kew\, VIC\, 3101\, Australia
END:VEVENT
END:VCALENDAR
