BEGIN:VCALENDAR
VERSION:2.0
PRODID:-//Squarespace Inc/Squarespace 6//v6//EN
BEGIN:VEVENT
UID:556ceeefe4b0d8dc09b0c856@squarespace.com
DTSTAMP:20150602T001259Z
DTSTART:20150420T091500Z
DTEND:20150420T111500Z
SUMMARY:Course: Marriage Preparation
GEO:-37.842567;145.069363
LOCATION:Camberwell\, Australia
END:VEVENT
END:VCALENDAR
