BEGIN:VCALENDAR
VERSION:2.0
PRODID:-//Squarespace Inc/Squarespace 6//v6//EN
BEGIN:VEVENT
UID:557fc97ce4b074355c73dcf4@squarespace.com
DTSTAMP:20150617T041203Z
DTSTART:20150324T223000Z
DTEND:20150327T063000Z
SUMMARY:Conference: Anglican Future Conference 2015
GEO:-37.821101;144.955091
LOCATION:Melbourne City Convention Centre
END:VEVENT
END:VCALENDAR
