BEGIN:VCALENDAR
VERSION:2.0
PRODID:-//Squarespace Inc/Squarespace 6//v6//EN
BEGIN:VEVENT
UID:566f625aa12f444bda85ebef@squarespace.com
DTSTAMP:20160527T060923Z
DTSTART:20160605T033000Z
DTEND:20160605T053000Z
SUMMARY:Vocal Technique with Ursula Cettolin (Stairway Church)
GEO:-37.811462;145.052545
LOCATION:12 John Street\, Kew\, VIC\, 3101\, Australia
END:VEVENT
END:VCALENDAR
