BEGIN:VCALENDAR
VERSION:2.0
PRODID:-//Squarespace Inc/Squarespace 6//v6//EN
BEGIN:VEVENT
UID:557fc109e4b06e69a9924fb9@squarespace.com
DTSTAMP:20151006T235352Z
DTSTART:20151009T083000Z
DTEND:20151010T053000Z
SUMMARY:Conference: Suffering & The God Question
END:VEVENT
END:VCALENDAR
