BEGIN:VCALENDAR
VERSION:2.0
PRODID:-//Squarespace Inc/Squarespace 6//v6//EN
BEGIN:VEVENT
UID:560cab63e4b093206c0864ba@squarespace.com
DTSTAMP:20151001T034422Z
DTSTART:20151014T073000Z
DTEND:20151014T093000Z
SUMMARY:Alpha Course
END:VEVENT
END:VCALENDAR
